BEGIN:VCALENDAR
VERSION:2.0
PRODID:-//Tukios.com/
BEGIN:VEVENT
UID:cb651063-27f9-4e7a-8e5e-cff8a645be5e@www.serenitychapels.com
DTSTAMP:20260421T205953Z
DTSTART:20260424T180000Z
DTEND:20260424T190000Z
SUMMARY:Funeral Service
DESCRIPTION:
URL:https://www.serenitychapels.com/obituaries/elvia-rivera
LOCATION:St. Theresa of the Infant Jesus Catholic Church 200 Salazar St  
	Edcouch TX 78538
GEO:26.2954714;-97.9567197
END:VEVENT
END:VCALENDAR