BEGIN:VCALENDAR
VERSION:2.0
PRODID:-//Tukios.com/
BEGIN:VEVENT
UID:2a341565-da26-4cce-82ab-b9c59013c91a@www.serenitychapels.com
DTSTAMP:20260421T210218Z
DTSTART:20260423T200000Z
DTEND:20260424T020000Z
SUMMARY:Visitation
DESCRIPTION:
URL:https://www.serenitychapels.com/obituaries/elvia-rivera
LOCATION:Serenity Funeral Chapel 1401 East Santa Rosa Avenue  Edcouch TX 
	78538
GEO:26.2946674;-97.9479216
END:VEVENT
END:VCALENDAR